Workbook
Name Spisok: [1]Оклады!$D$3:$G$205
Name Выбор_1: [1]Настройки!$I$4:$R$64
Name Замещ: #REF!
Name Занятые: #REF!
Name КвГр: [1]Настройки!$A$4:$G$25
Name КвГр_1: [1]Настройки!$A$4:$A$25
Name Код_файла: #REF!
Name Ночные: #REF!
Name Отделение: [1]Настройки!$U$4:$U$60
Name ПереченьУчр: [1]Настройки!$K$4:$K$64
Name получатели_ПМ: #REF!
Name Празд: #REF!
Name соц_доплата: #REF!
Name Спец: [1]Оклады!$D$3:$F$205
Name Стаж: #REF!
Name СтрПодр: [1]Настройки!$X$4:$Z$12
Name Структура: [1]Настройки!$X$4:$X$16
Name Физ_лица: #REF!
Name Штат: #REF!
Name эк_211: #REF!
Name эк_212_05: #REF!
Name эк_213: #REF!

Sheet ПРЕЙСКУРАНТ
A4: ПРЕЙСКУРАНТ ЦЕН НА ПЛАТНЫЕ МЕДИЦИНСКИЕ УСЛУГИ
A5: Государственного бюджетного учреждения здравоохранения "Чукотская окружная больница"
A6: Код услуги | B6: Наименование услуги | C6: Цена (тариф), руб. | D6: Цена (тариф), руб. с НДС
A7: Подразделение: Туберкулезный кабинет
A8: B01.055.001 | B8: Прием (осмотр, консультация) врача-фтизиатра первичный | C8: 1795
A9: B01.055.002 | B9: Прием (осмотр, консультация) врача-фтизиатра повторный | C9: 1795
A10: B04.055.001 | B10: Диспансерный прием (осмотр, консультация) врача-фтизиатра | C10: 1447
A11: B04.055.002 | B11: Профилактический прием (осмотр, консультация) врача-фтизиатра | C11: 1447
A12: A11.01.003.001 | B12: Внутрикожная проба с туберкулезным аллергеном | C12: 272
A13: Подразделение: Централизованная клинико-диагностическая лаборатория (клинико-диагностическая лаборатория)
A14: A09.05.026 | B14: Исследование уровня холестерина в крови | C14: 314
A15: A09.05.025 | B15: Исследование уровня триглицеридов в крови | C15: 212
A16: A09.05.301 | B16: Исследование тимоловой и сулемовой проб в сыворотке крови | C16: 314
A17: A09.05.010 | B17: Исследование уровня общего белка в крови | C17: 314
A18: A09.05.030 | B18: Исследование уровня натрия в крови | C18: 299
A19: A09.28.010 | B19: Исследование уровня мочевой кислоты в моче | C19: 748
A20: A09.05.017 | B20: Исследование уровня мочевины в крови | C20: 401
A21: A09.28.009 | B21: Исследование уровня мочевины в моче | C21: 527
A22: A09.05.020 | B22: Исследование уровня креатинина в крови | C22: 503
A23: A09.05.031 | B23: Исследование уровня калия в крови | C23: 189
A24: A09.05.011 | B24: Исследование уровня альбумина в крови | C24: 440
A25: A09.28.027 | B25: Определение активности альфа-амилазы в моче | C25: 377
... A205: A08.08.003 | B205: Цитологическое исследование мазков с поверхности слизистой оболочки верхних дыхательных путей (риноцитограмма) | C205: 2831
A206: Подразделение: Зубопротезный кабинет
A207: B01.066.001 | B207: Прием (осмотр, консультация) врача-стоматолога-ортопеда первичный | C207: 988
A208: B01.066.002 | B208: Прием (осмотр, консультация) врача-стоматолога-ортопеда повторный | C208: 988
A209: A23.07.002.074 | B209: Устранение 1 перелома | C209: 2290
A210: A23.07.002.075 | B210: Укрепление коронки с применением цемента | C210: 402
A211: A23.07.002.076 | B211: Коронка пластмассовая | C211: 3435
A212: A23.07.002.077 | B212: Коронка металлокерамическая | C212: 9618
A213: A23.07.002.078 | B213: Снятие одного слепка альгинатной массой | C213: 402
A214: A02.07.010.002 | B214: Снятие оттисков силиконовых | C214: 1007
A215: A23.07.002.036.001 | B215: Приварка 1 зуба самоотвердевающей пластмассой | C215: 3662
A216: A23.07.002.079 | B216: Зуб металлокерамический | C216: 9618
A217: A23.07.002.080 | B217: Коронка цельнолитая | C217: 8107
A218: A23.07.002.081 | B218: Зуб в цельнолитом мосту | C218: 8107
... A259: A23.07.002.120 | B259: Винир/коронка E-max облицованная керамикой (лаборатория) | C259: 7955
A260: Подразделение: Стоматологическое отделение (кабинет)
A261: B01.065.001 | B261: Прием (осмотр, консультация) врача-стоматолога-терапевта первичный | C261: 707
A262: B01.065.002 | B262: Прием (осмотр, консультация) врача-стоматолога-терапевта повторный | C262: 532
...

Sheet 1
A3: Стоимость медицинского осмотра для оформления санаторно-курортной карты
A5: Код услуги | B5: Наименование | C5: Стоимость для женщин (руб.) | D5: Стоимость для мужчин (руб.)
A6: A11.12.013 | B6: Взятие крови из центральной вены | C6: 479 | D6: 479
A7: A09.05.304 | B7: Обработка крови, включая регистрацию (получение плазмы и сыворотки крови) | C7: 232 | D7: 232
A8: A09.05.003 | B8: Исследование уровня общего гемоглобина в крови | C8: 252 | D8: 252
A9: A12.05.001 | B9: Исследование скорости оседания эритроцитов | C9: 189 | D9: 189
A10: A12.05.119 | B10: Исследование уровня лейкоцитов в крови | C10: 377 | D10: 377
A11: A09.28.003 | B11: Определение белка в моче | C11: 252 | D11: 252
A12: A09.28.011 | B12: Исследование уровня глюкозы в моче | C12: 314 | D12: 314
A13: A26.06.082.001 | B13: Определение антител к бледной трепонеме (Treponema pallidum) в нетрепонемных тестах (RPR, РМП) (качественное и полуколичественное исследование) в сыворотке крови | C13: 658 | D13: 658
A14: A06.09.006 | B14: Флюорография легких | C14: 1415 | D14: 1415
A15: A05.10.006 | B15: Регистрация электрокардиограммы | C15: 1286 | D15: 1286
A16: A05.10.004 | B16: Расшифровка, описание и интерпретация электрокардиографических данных | C16: 1318 | D16: 1318
A17: A11.20.005 | B17: Получение влагалищного мазка | C17: 183
A18: A12.20.001 | B18: Микроскопическое исследование влагалищных мазков | C18: 2775
A19: A11.20.002 | B19: Получение цервикального мазка | C19: 183
A20: A08.20.013 | B20: Цитологическое исследование микропрепарата тканей матки* (или услуга A08.20.012) | C20: 3677
A21: A08.20.012 | B21: Цитологическое исследование микропрепарата тканей влагалища | C21: 3677
A22: B04.001.002 | B22: Профилактический прием (осмотр, консультация) врача-акушера-гинеколога | C22: 663
A23: B04.047.002 | B23: Профилактический прием (осмотр, консультация) врача-терапевта | C23: 824 | D23: 824
A24: A23.30.058 | B24: Выдача заключений по форме 072/у-04 | C24: 187 | D24: 187
B25: Стоимость | C25: =SUM(C6:C24)-C21 -> 15264 | D25: =SUM(D6:D24) -> 7783
A26: Примечание: *в случаях невозможности проведения исследования по медицинским показаниям

Sheet 2
A3: Стоимость медицинского осмотра для оформления справки ф.086-У
A5: Код услуги | B5: Наименование | C5: Стоимость для женщин (руб.) | D5: Стоимость для мужчин (руб.)
A6: A11.05.001 | B6: Взятие крови из пальца | C6: 314 | D6: 314
A7: A09.05.003 | B7: Исследование уровня общего гемоглобина в крови | C7: 252 | D7: 252
A8: A12.05.001 | B8: Исследование скорости оседания эритроцитов | C8: 189 | D8: 189
A9: A12.05.119 | B9: Исследование уровня лейкоцитов в крови | C9: 377 | D9: 377
A10: A09.28.003 | B10: Определение белка в моче | C10: 252 | D10: 252
A11: A09.28.011 | B11: Исследование уровня глюкозы в моче | C11: 314 | D11: 314
A12: A06.09.006 | B12: Флюорография легких | C12: 1415 | D12: 1415
A13: A11.20.005 | B13: Получение влагалищного мазка | C13: 183
A14: A12.20.001 | B14: Микроскопическое исследование влагалищных мазков | C14: 2775
A15: B04.001.002 | B15: Профилактический прием (осмотр, консультация) врача-акушера-гинеколога | C15: 663
A16: B04.028.002 | B16: Профилактический прием (осмотр, консультация) врача-оториноларинголога | C16: 526 | D16: 526
A17: B04.057.002 | B17: Профилактический прием (осмотр, консультация) врача-хирурга | C17: 370 | D17: 370
A18: B04.023.002 | B18: Профилактический прием (осмотр, консультация) врача-невролога | C18: 426 | D18: 426
A19: B04.029.002 | B19: Профилактический прием (осмотр, консультация) врача-офтальмолога | C19: 519 | D19: 519
A20: B04.008.002 | B20: Профилактический прием (осмотр, консультация) врача-дерматовенеролога | C20: 932 | D20: 932
A21: B04.035.002 | B21: Профилактический прием (осмотр, консультация) врача-психиатра | C21: 945 | D21: 945
A22: B04.036.002 | B22: Профилактический прием (осмотр, консультация) врача психиатра-нарколога | C22: 920 | D22: 920
A23: B04.047.002 | B23: Профилактический прием (осмотр, консультация) врача-терапевта | C23: 824 | D23: 824
A24: A23.30.060 | B24: Выдача заключений по форме 086/у | C24: 187 | D24: 187
A25: Стоимость | C25: =SUM(C6:C24) -> 12383 | D25: =SUM(D6:D24) -> 8762

Sheet 3
A5: Расчет стоимости проведения медицинского освидетельствования согласно Постановлений Правительства РФ: № 733 от 26.08.2013г. "О медицинском освидетельствовании лиц на предмет наличия (отсутствия) заболевания, препятствующего поступлению на службу в органы и учреждения прокуратуры Российской Федерации и исполнению служебных обязанностей прокурорского работника; № 500 от 31 мая 2014 г."О медицинском освидетельствовании лиц на наличие или отсутствие заболевания, препятствующего поступлению на службу в следственные органы и учреждения Следственного комитета Российской Федерации и исполнению служебных обязанностей сотрудника Следственного комитета Российской Федерации"
A7: Перечень врачей-специалистов, лабораторных и функциональных исследований | B7: Код услуги | C7: Наименование услуги | D7: Стоимость услуги (руб.)
B8: согласно прейскуранту ГБУЗ ЧОБ
A9: 1) проведение лабораторных и функциональных исследований: | D9: =SUM(D10:D24) -> 11438
A10: клинический анализ мочи | B10: A09.28.011 | C10: =VLOOKUP(B10,[2]Калькуляция_детальная!$B$10:$AU$1357,2,FALSE) -> Исследование уровня глюкозы в моче | D10: =VLOOKUP(B10,[2]Калькуляция_детальная!$B$10:$AU$1357,45,FALSE) -> 314
B11: A09.28.003 | C11: =VLOOKUP(B11,[2]Калькуляция_детальная!$B$10:$AU$1357,2,FALSE) -> Определение белка в моче | D11: =VLOOKUP(B11,[2]Калькуляция_детальная!$B$10:$AU$1357,45,FALSE) -> 252
B12: A12.28.011 | C12: =VLOOKUP(B12,[2]Калькуляция_детальная!$B$10:$AU$1357,2,FALSE) -> Микроскопическое исследование осадка мочи | D12: =VLOOKUP(B12,[2]Калькуляция_детальная!$B$10:$AU$1357,45,FALSE) -> 583
B13: A12.28.012 | C13: =VLOOKUP(B13,[2]Калькуляция_детальная!$B$10:$AU$1357,2,FALSE) -> Определение объема мочи | D13: =VLOOKUP(B13,[2]Калькуляция_детальная!$B$10:$AU$1357,45,FALSE) -> 126
B14: A12.28.013 | C14: =VLOOKUP(B14,[2]Калькуляция_детальная!$B$10:$AU$1357,2,FALSE) -> Определение удельного веса (относительной плотности) мочи | D14: =VLOOKUP(B14,[2]Калькуляция_детальная!$B$10:$AU$1357,45,FALSE) -> 126
A15: клинический анализ крови | B15: A11.05.001 | C15: =VLOOKUP(B15,[2]Калькуляция_детальная!$B$10:$AU$1357,2,FALSE) -> Взятие крови из пальца | D15: =VLOOKUP(B15,[2]Калькуляция_детальная!$B$10:$AU$1357,45,FALSE) -> 314
B16: A12.05.118 | C16: =VLOOKUP(B16,[2]Калькуляция_детальная!$B$10:$AU$1357,2,FALSE) -> Исследование уровня эритроцитов в крови | D16: =VLOOKUP(B16,[2]Калькуляция_детальная!$B$10:$AU$1357,45,FALSE) -> 566
B17: A12.05.121 | C17: =VLOOKUP(B17,[2]Калькуляция_детальная!$B$10:$AU$1357,2,FALSE) -> Дифференцированный подсчет лейкоцитов (лейкоцитарная формула) | D17: =VLOOKUP(B17,[2]Калькуляция_детальная!$B$10:$AU$1357,45,FALSE) -> 882
B18: A12.05.119 | C18: =VLOOKUP(B18,[2]Калькуляция_детальная!$B$10:$AU$1357,2,FALSE) -> Исследование уровня лейкоцитов в крови | D18: =VLOOKUP(B18,[2]Калькуляция_детальная!$B$10:$AU$1357,45,FALSE) -> 377
B19: A12.05.001 | C19: =VLOOKUP(B19,[2]Калькуляция_детальная!$B$10:$AU$1357,2,FALSE) -> Исследование скорости оседания эритроцитов | D19: =VLOOKUP(B19,[2]Калькуляция_детальная!$B$10:$AU$1357,45,FALSE) -> 189
B20: A09.05.003 | C20: =VLOOKUP(B20,[2]Калькуляция_детальная!$B$10:$AU$1357,2,FALSE) -> Исследование уровня общего гемоглобина в крови | D20: =VLOOKUP(B20,[2]Калькуляция_детальная!$B$10:$AU$1357,45,FALSE) -> 252
A21: электроэнцефалография | B21: A05.23.001 | C21: =VLOOKUP(B21,[2]Калькуляция_детальная!$B$10:$AU$1357,2,FALSE) -> Электроэнцефалография | D21: =VLOOKUP(B21,[2]Калькуляция_детальная!$B$10:$AU$1357,45,FALSE) -> 3438
A22: электрокардиография | B22: A05.10.006 | C22: =VLOOKUP(B22,[2]Калькуляция_детальная!$B$10:$AU$1357,2,FALSE) -> Регистрация электрокардиограммы | D22: =VLOOKUP(B22,[2]Калькуляция_детальная!$B$10:$AU$1357,45,FALSE) -> 1286
B23: A05.10.004 | C23: =VLOOKUP(B23,[2]Калькуляция_детальная!$B$10:$AU$1357,2,FALSE) -> Расшифровка, описание и интерпретация электрокардиографических данных | D23: =VLOOKUP(B23,[2]Калькуляция_детальная!$B$10:$AU$1357,45,FALSE) -> 1318
A24: Флюорография | B24: A06.09.006 | C24: =VLOOKUP(B24,[2]Калькуляция_детальная!$B$10:$AU$1357,2,FALSE) -> Флюорография легких | D24: =VLOOKUP(B24,[2]Калькуляция_детальная!$B$10:$AU$1357,45,FALSE) -> 1415
A25: 2) осмотр врачами-специалистами: | D25: =SUM(D26:D30) -> 3302
A26: терапевтом | B26: B04.047.002 | C26: =VLOOKUP(B26,[2]Калькуляция_детальная!$B$10:$AU$1357,2,FALSE) -> Профилактический прием (осмотр, консультация) врача-терапевта | D26: =VLOOKUP(B26,[2]Калькуляция_детальная!$B$10:$AU$1357,45,FALSE) -> 824
A27: неврологом | B27: B04.023.002 | C27: =VLOOKUP(B27,[2]Калькуляция_детальная!$B$10:$AU$1357,2,FALSE) -> Профилактический прием (осмотр, консультация) врача-невролога | D27: =VLOOKUP(B27,[2]Калькуляция_детальная!$B$10:$AU$1357,45,FALSE) -> 426
A28: психиатром | B28: B04.035.002 | C28: =VLOOKUP(B28,[2]Калькуляция_детальная!$B$10:$AU$1357,2,FALSE) -> Профилактический прием (осмотр, консультация) врача-психиатра | D28: =VLOOKUP(B28,[2]Калькуляция_детальная!$B$10:$AU$1357,45,FALSE) -> 945
A29: психиатром-наркологом | B29: B04.036.002 | C29: =VLOOKUP(B29,[2]Калькуляция_детальная!$B$10:$AU$1357,2,FALSE) -> Профилактический прием (осмотр, консультация) врача психиатра-нарколога | D29: =VLOOKUP(B29,[2]Калькуляция_детальная!$B$10:$AU$1357,45,FALSE) -> 920
A30: Выдача медицинского заключения по результатам медицинского осмотра | B30: A23.30.059 | C30: =VLOOKUP(B30,[2]Калькуляция_детальная!$B$10:$AU$1357,2,FALSE) -> Выдача медицинского заключения по результатам медицинского осмотра | D30: =VLOOKUP(B30,[2]Калькуляция_детальная!$B$10:$AU$1357,45,FALSE) -> 187
A31: ИТОГО | D31: =D25+D9 -> 14740

Sheet 4
A2: Расчет стоимости проведения диспансеризации гражданских и муниципальных служащих, согласно приказу Министерства здравоохранения Российской Федерации от 14 апреля 2025 г. № 201н "Об утверждении Порядка прохождения диспансеризации федеральными государственными гражданскими служащими, государственными гражданскими служащими субъектов Российской Федерации и муниципальными служащими, перечня заболеваний, препятствующих поступлению на государственную гражданскую службу Российской Федерации и муниципальную службу или ее прохождению, а также формы заключения медицинской организации"
A4: Перечень врачей-специалистов, лабораторных и функциональных исследований для проведения диспансеризация гражданских служащих и муниципальных служащих: | B4: Код услуги | C4: Наименование услуги | D4: Стоимость услуги (руб.) | E4: Стоимость услуги (руб.)
B5: согласно прейскуранту ГБУЗ ЧОБ | D5: для мужчины | E5: для женщины
A6: 1) проведение лабораторных и функциональных исследований: | D6: =SUM(D7:D44) -> 15142 | E6: =SUM(E7:E44)-E39 -> 22401
A7: клинический анализ крови | B7: A11.05.001 | C7: Взятие крови из пальца | D7: 314 | E7: 314
B8: A12.05.118 | C8: Исследование уровня эритроцитов в крови | D8: 566 | E8: 566
B9: A12.05.121 | C9: Дифференцированный подсчет лейкоцитов (лейкоцитарная формула) | D9: 882 | E9: 882
B10: A12.05.119 | C10: Исследование уровня лейкоцитов в крови | D10: 377 | E10: 377
B11: A12.05.001 | C11: Исследование скорости оседания эритроцитов | D11: 189 | E11: 189
B12: A09.05.003 | C12: Исследование уровня общего гемоглобина в крови | D12: 252 | E12: 252
A13: клинический анализ мочи | B13: A09.28.011 | C13: Исследование уровня глюкозы в моче | D13: 314 | E13: 314
B14: A09.28.003 | C14: Определение белка в моче | D14: 252 | E14: 252
B15: A12.28.011 | C15: Микроскопическое исследование осадка мочи | D15: 583 | E15: 583
B16: A12.28.012 | C16: Определение объема мочи | D16: 126 | E16: 126
B17: A12.28.013 | C17: Определение удельного веса (относительной плотности) мочи | D17: 126 | E17: 126
B18: A11.12.013 | C18: Взятие крови из центральной вены | D18: 479 | E18: 479
B19: A09.05.304 | C19: Обработка крови, включая регистрацию (получение плазмы и сыворотки крови) | D19: 232 | E19: 232
A20: определение относительного суммарного сердечно-сосудистого риска(в возрасте от 21 до 39 лет) и абсолютного суммарного сердечно-сосудистого риска (в возрасте от 40 лет) | B20: A01.10.006 | C20: Определение относительного сердечно-сосудистого риска | D20: 144 | E20: 144
B21: A01.10.007 | C21: Определение абсолютного сердечно-сосудистого риска | D21: 144 | E21: 144
A22: измерение артериального давления на периферических артериях | B22: A02.12.002 | C22: Измерение артериального давления на периферических артериях | D22: 139 | E22: 139
A23: антропометрические исследования (измерение роста стоя, массы тела, окружности талии), расчет индекса массы тела | B23: A02.01.001 | C23: Измерение массы тела | D23: 187 | E23: 187
B24: A02.03.005 | C24: Измерение роста | D24: 187 | E24: 187
A25: исследование уровня холестерина крови | B25: A09.05.026 | C25: Исследование уровня холестерина в крови | D25: 314 | E25: 314
A26: исследование уровня глюкозы в крови | B26: A09.05.023 | C26: Исследование уровня глюкозы в крови | D26: 629 | E26: 629
A27: исследование уровня билирубина | B27: A09.05.021 | C27: Исследование уровня общего билирубина в крови | D27: 464 | E27: 464
B28: A09.05.022 | C28: Исследование уровня свободного и связанного билирубина в крови | D28: 653 | E28: 653
A29: исследование уровня общего белка в крови | B29: A09.05.010 | C29: Исследование уровня общего белка в крови | D29: 314 | E29: 314
A30: определение активности амилазы в крови | B30: A09.05.045 | C30: Определение активности амилазы в крови | D30: 503 | E30: 503
A31: исследование уровня креатинина в крови | B31: A09.05.020 | C31: Исследование уровня креатинина в крови | D31: 503 | E31: 503
A32: исследование уровня мочевой кислоты в крови | B32: A09.05.018 | C32: Исследование уровня мочевой кислоты в крови | D32: 401 | E32: 401
A33: исследование кала на скрытую кровь иммунохимическим методом (для граждан в возрасте от 45 лет и старше) | B33: A09.19.001 | C33: Исследование кала на скрытую кровь | D33: 189 | E33: 189
A34: исследование уровня холестерина липопротеидов низкой плотности сыворотки крови | B34: A09.05.028 | C34: Исследование уровня холестерина липопротеинов низкой плотности | D34: 1023 | E34: 1023
A35: исследование уровня триглицеридов сыворотки крови | B35: A09.05.025 | C35: Исследование уровня триглицеридов в крови | D35: 212 | E35: 212
A36: онкомаркер специфический CA-125 (женщинам после 40 лет) | B36: A09.05.202 | C36: Исследование уровня антигена аденогенных раков CA 125 в крови | E36: 425
A37: онкомаркер специфический PSA (мужчинам после 40 лет) | B37: A09.05.130 | C37: Исследование уровня простатспецифического антигена общего в крови | D37: 425
A38: цитологическое исследование мазка из цервикального канала | B38: A11.20.002 | C38: Получение цервикального мазка | E38: 183
B39: A08.20.012 | C39: Цитологическое исследование микропрепарата тканей влагалища | E39: 3677
B40: A08.20.013 | C40: Цитологическое исследование микропрепарата тканей матки* (или услуга A08.20.012) | E40: 3677
A41: электрокардиография | B41: A05.10.006 | C41: Регистрация электрокардиограммы | D41: 1286 | E41: 1286
B42: A05.10.004 | C42: Расшифровка, описание и интерпретация электрокардиографических данных | D42: 1318 | E42: 1318
...

Sheet 5
A4: Перечень и стоимость проведения обязательного медицинского освидетельствования согласно Приказу Министерства здравоохранения РФ от 19 ноября 2021 г. № 1078н "Об утверждении порядка обязательного медицинского освидетельствования лиц, получивших свидетельство о рассмотрении ходатайства о признании беженцем по существу, лиц, подавших заявление о предоствалении временного убежища на территории Российской Федерации, и прибывших с указанными лицами членов их семей"
A6: Перечень согласно Приказу Министерства здравоохранения РФ от 19 ноября 2021г. № 1078н | B6: Код услуги | C6: Наименование услуги в прейскуранте цен | D6: Стоимость (руб.) | E6: Примечание
A9: 1) проведение лабораторных и функциональных исследований:
A10: определение антител класса IgG к Treponema pallidum методом иммуноферментного анализа | B10: A26.06.082.002 | C10: Определение антител к бледной трепонеме (Treponema pallidum) иммуноферментным методом (ИФА) в крови | D10: 1185
A11: определение антител к Treponema pallidum в реакции пассивной гемагглютинации | B11: A26.06.082.003 | C11: Определение антител к бледной трепонеме (Treponema pallidum) в реакции пассивной гемагглютинации (РПГА) (качественное и полуколичественное исследование) в сыворотке крови | D11: 3068
A12: определение антител к Treponema pallidum нетрепонемным тестом (РМП) | B12: A26.06.082.001 | C12: Определение антител к бледной трепонеме (Treponema pallidum) в нетрепонемных тестах (RPR, РМП) (качественное и полуколичественное исследование) в сыворотке крови | D12: 658
A13: суммарное определение антител классов M, G (IgM и IgG) к вирусу иммунодефицита человека ВИЧ-1 и ВИЧ-2 (Human immunodeficiency virus HIV 1/HIV 2) и антигена p24 в сыворотке или плазме крови человека | B13: A26.06.049.001 | C13: Исследование уровня антител классов M, G (IgM, IgG) к вирусу иммунодефицита человека ВИЧ-1/2 и антигена p24 (Human immunodeficiency virus HIV 1/2 + Agp24) в крови | D13: 2022
A14: бактериоскопическое и культуральное (посевы на твердых и жидких питательных средах) исследование мокроты или другого материала | B14: A26.09.002.001 | C14: Микробиологическое (культуральное) исследование мокроты на плотных питательных средах на микобактерии туберкулеза (Mycobacterium tuberculosis complex) | D14: 5261
A15: лабораторное исследование на COVID-19 с применением методов амплификации нуклеиновых кислот | B15: A26.05.077 | C15: Молекулярно-биологическое исследование отделяемого назофаренгиального мазка на коронавирусную инфекцию РНК SARS-CoV-2 (автоматическая пробоподготовка) | D15: 898
A16: бактериоскопическое исследование соскоба слизистой оболочки носа (окраска по Циль-Нильсону) | B16: A26.09.001 | C16: Микроскопическое исследование мокроты на микобактерии (Mycobacterium spp.) | D16: 1727 | E16: при необходимости
A17: рентгенологическое исследование или компьютерная томография, выполненные в срок не более одного месяца перед медицинским освидетельствованием (для лиц старше 18 лет) | B17: A06.09.006 | C17: Флюорография легких | D17: 1415
A18: 2) осмотр врачами-специалистами:
A19: 1) осмотр врачом-фтизиатром (в целях установления наличия (отсутствия) инфекционного заболевания | B19: B04.055.002 | C19: Профилактический прием (осмотр, консультация) врача-фтизиатра | D19: 1447
A20: 2) осмотр врачом-дерматовенерологом (в целях установления наличия (отсутствия) инфекционного заболевания | B20: B04.008.002 | C20: Профилактический прием (осмотр, консультация) врача-дерматовенеролога | D20: 932
A21: 3) осмотр врачом-инфекционистом (в целях установления наличия (отсутствия) инфекционных заболеваний | B21: B04.014.003 | C21: Профилактический прием (осмотр, консультация) врача-инфекциониста | D21: 871
B22: A11.12.013 | C22: Взятие крови из центральной вены | D22: 479
B23: A23.30.063 | C23: Выдача сертификата об отсутствии вируса иммунодефицита человека (ВИЧ-инфекции), иностранным гражданам и лицам без гражданства, пребывающим в Российскую Федерацию | D23: 209
A24: 4) осмотр врачом-терапевтом (в целях установления наличия (отсутствия) инфекционного заболевания | B24: B04.047.002 | C24: Профилактический прием (осмотр, консультация) врача-терапевта | D24: 824
A25: 3) выдача медицинского заключения: | B25: A23.30.059 | C25: Выдача медицинского заключения по результатам медицинского осмотра | D25: 187
A26: Итого: | D26: =SUM(D10:D25) -> 21183
A28: Примечание: при наличии медицинских показаний могут быть назначены дополнительные консультации специалистов, лабораторные и инструментальные исследования.

Sheet 6
A4: Стоимость медицинского осмотра для оформления медицинского заключения на получение разрешения временного проживания иностранных граждан и лиц без гражданства, или вида на жительство, или патента, или разрешения на работу в Российской Федерации согласно приказу Министерства здравоохранения РФ от 19.11.2021г № 1079н "Об утверждении Порядка проведения медицинского освидетельствования, включая проведение химико-токсикологических исследований наличия в организме иностранного гражданина или лица без гражданства наркотических средств или психотропных веществ либо новых потенциально опасных психоактивных веществ и их метаболитов, на наличие или отсутствие у иностранного гражданина или лица без гражданства инфекционных заболеваний, представляющих опасность для окружающих, и заболевания, вызываемого вирусом иммунодефицита человека (ВИЧ-инфекции), формы бланка и срока действия медицинского заключения об отсутствии факта употребления наркотических средств или психотропных веществ без назначения врача либо новых потенциально опасных психоактивных веществ, а также формы, описания бланка и срока действия медицинского заключения о наличии (отсутствии) инфекционных заболеваний, представляющих опасность для окружающих"
A6: Перечень согласно Приказу Министерства здравоохранения РФ от 19 ноября 2021г. № 1079н | B6: Код услуги | C6: Наименование услуги в прейскуранте цен | D6: Стоимость (руб.) | Q6: Примечание
D8: лица старше 18 лет | E8: лица в возрасте 17 лет | F8: лица в возрасте 16 лет | G8: лица в возрасте 15 лет | H8: лица в возрасте 14 лет | I8: лица в возрасте 13 лет | J8: лица в возрасте 12 лет | K8: лица в возрасте 11 лет | L8: лица в возрасте 10 лет | M8: лица в возрасте 9 лет | N8: лица в возрасте 8 лет | O8: лица в возрасте от 6 до 7 лет | P8: лица младше 6 лет
A10: 1) химико-токсикологическое исследование (для иностранных граждан или лиц без гражданства, достигших 13 лет) | B10: A09.28.055.001 | C10: Количественное определение одной группы психоактивных веществ, в том числе наркотических средств и психотропных веществ, их метаболитов в моче иммунохимическим методом | D10: 1951 | E10: 1951 | F10: 1951 | G10: 1951 | H10: 1951 | I10: 1951
B11: A11.28.014 | C11: Сбор мочи для лабораторного исследования | D11: 371 | E11: 371 | F11: 371 | G11: 371 | H11: 371 | I11: 371
A12: 2) проведение лабораторных и функциональных исследований:
A13: определение антител класса IgG к Treponema pallidum методом иммуноферментного анализа | B13: A26.06.082.002 | C13: Определение антител к бледной трепонеме (Treponema pallidum) иммуноферментным методом (ИФА) в крови | D13: 1185 | E13: 1185 | F13: 1185 | G13: 1185 | H13: 1185 | I13: 1185 | J13: 1185 | K13: 1185 | L13: 1185 | M13: 1185 | N13: 1185 | O13: 1185 | P13: 1185
A14: определение антител к Treponema pallidum в реакции пассивной гемагглютинации | B14: A26.06.082.003 | C14: Определение антител к бледной трепонеме (Treponema pallidum) в реакции пассивной гемагглютинации (РПГА) (качественное и полуколичественное исследование) в сыворотке крови | D14: 3068 | E14: 3068 | F14: 3068 | G14: 3068 | H14: 3068 | I14: 3068 | J14: 3068 | K14: 3068 | L14: 3068 | M14: 3068 | N14: 3068 | O14: 3068 | P14: 3068
A15: определение антител к Treponema pallidum нетрепонемным тестом (РМП) | B15: A26.06.082.001 | C15: Определение антител к бледной трепонеме (Treponema pallidum) в нетрепонемных тестах (RPR, РМП) (качественное и полуколичественное исследование) в сыворотке крови | D15: 658 | E15: 658 | F15: 658 | G15: 658 | H15: 658 | I15: 658 | J15: 658 | K15: 658 | L15: 658 | M15: 658 | N15: 658 | O15: 658 | P15: 658
A16: суммарное определение антител классов M, G (IgM и IgG) к вирусу иммунодефицита человека ВИЧ-1 и ВИЧ-2 (Human immunodeficiency virus HIV 1/HIV 2) и антигена p24 в сыворотке или плазме крови человека | B16: A26.06.049.001 | C16: Исследование уровня антител классов M, G (IgM, IgG) к вирусу иммунодефицита человека ВИЧ-1/2 и антигена p24 (Human immunodeficiency virus HIV 1/2 + Agp24) в крови | D16: 2022 | E16: 2022 | F16: 2022 | G16: 2022 | H16: 2022 | I16: 2022 | J16: 2022 | K16: 2022 | L16: 2022 | M16: 2022 | N16: 2022 | O16: 2022 | P16: 2022
A17: флюорография, или рентгенография, или компьютерная томография легких (для иностранных граждан или лиц без гражданства старше 18 лет) | B17: A06.09.006 | C17: Флюорография легких | D17: 1415
A18: иммунодиагностика с применением аллергена бактерий с 2 туберкулиновыми единицами очищенного туберкулина в стандартном разведении (для иностранных граждан или лиц без гражданства в возрасте от 6 до 7 лет включительно) | B18: A11.01.003.001 | C18: Внутрикожная проба с туберкулезным аллергеном | O18: 272
A19: иммунодиагностика с применением аллергена туберкулезного рекомбинантного в стандартном разведении или по желанию гражданина in vitro тесты, основанные на оценке высвобождения T-лимфоцитами гамма-интерферона (для иностранных граждан или лиц без гражданства в возрасте от 8 до 14 лет включительно) | B19: A11.01.003.001 | C19: Внутрикожная проба с туберкулезным аллергеном | H19: 272 | I19: 272 | J19: 272 | K19: 272 | L19: 272 | M19: 272 | N19: 272
A20: иммунодиагностика с применением аллергена туберкулезного рекомбинантного в стандартном разведении или рентгенологическое исследование органов грудной клетки или флюорография легких (для иностранных граждан или лиц без гражданства в возрасте от 15 до 17 лет включительно) | B20: A11.01.003.001 | C20: Внутрикожная проба с туберкулезным аллергеном | E20: 272 | F20: 272 | G20: 272
A21: бактериоскопическое и (или) культуральное (посевы на твердых и жидких питательных средах) исследование мокроты или другого материала или молекулярно-биологическое исследование мокроты или другого материала на ДНК микобактерий туберкулеза (Mycobacterium tuberculosis) методом полимеразной цепной реакции (ПЦР) | B21: A26.09.002.001 | C21: Микробиологическое (культуральное) исследование мокроты на плотных питательных средах на микобактерии туберкулеза (Mycobacterium tuberculosis complex) | D21: 5261 | E21: 5261 | F21: 5261 | G21: 5261 | H21: 5261 | I21: 5261 | J21: 5261 | K21: 5261 | L21: 5261 | M21: 5261 | N21: 5261 | O21: 5261 | P21: 5261 | Q21: при необходимости
A22: бактериоскопическое исследование соскоба слизистой оболочки носа (окраска по Циль-Нильсону) | B22: A26.09.001 | C22: Микроскопическое исследование мокроты на микобактерии (Mycobacterium spp.) | D22: 1727 | E22: 1727 | F22: 1727 | G22: 1727 | H22: 1727 | I22: 1727 | J22: 1727 | K22: 1727 | L22: 1727 | M22: 1727 | N22: 1727 | O22: 1727 | P22: 1727 | Q22: при необходимости
A23: 3) осмотр врачами-специалистами:
A24: 1) осмотр врачом-фтизиатром (в целях установления наличия (отсутствия) инфекционного заболевания | B24: B04.055.002 | C24: Профилактический прием (осмотр, консультация) врача-фтизиатра | D24: 1447 | E24: 1447 | F24: 1447 | G24: 1447 | H24: 1447 | I24: 1447 | J24: 1447 | K24: 1447 | L24: 1447 | M24: 1447 | N24: 1447 | O24: 1447 | P24: 1447
A25: 2) осмотр врачом-дерматовенерологом (в целях установления наличия (отсутствия) инфекционного заболевания | B25: B04.008.002 | C25: Профилактический прием (осмотр, консультация) врача-дерматовенеролога | D25: 932 | E25: 932 | F25: 932 | G25: 932 | H25: 932 | I25: 932 | J25: 932 | K25: 932 | L25: 932 | M25: 932 | N25: 932 | O25: 932 | P25: 932
A26: 3) осмотр врачом-инфекционистом (в целях установления наличия (отсутствия) инфекционных заболеваний | B26: B04.014.003 | C26: Профилактический прием (осмотр, консультация) врача-инфекциониста | D26: 871 | E26: 871 | F26: 871 | G26: 871 | H26: 871 | I26: 871 | J26: 871 | K26: 871 | L26: 871 | M26: 871 | N26: 871 | O26: 871 | P26: 871
B27: A11.12.013 | C27: Взятие крови из центральной вены | D27: 479 | E27: 479 | F27: 479 | G27: 479 | H27: 479 | I27: 479 | J27: 479 | K27: 479 | L27: 479 | M27: 479 | N27: 479 | O27: 479 | P27: 479
B28: A23.30.063 | C28: Выдача сертификата об отсутствии вируса иммунодефицита человека (ВИЧ-инфекции), иностранным гражданам и лицам без гражданства, пребывающим в Российскую Федерацию | D28: 209 | E28: 209 | F28: 209 | G28: 209 | H28: 209 | I28: 209 | J28: 209 | K28: 209 | L28: 209 | M28: 209 | N28: 209 | O28: 209 | P28: 209
A29: 4) осмотр врачом-психиатром-наркологом, устанавливающим факт употребления иностранным гражданином или лицом без гражданства наркотических средств или психотропных веществ без назначения врача либо новых потенциально опасных психоактивных веществ и их метаболитов, по результатам проведения химико-токсикологического исследования (для иностранных граждан или лиц без гражданства, достигших 13 лет) | B29: B04.036.002 | C29: Профилактический прием (осмотр, консультация) врача психиатра-нарколога | D29: 920 | E29: 920 | F29: 920 | G29: 920 | H29: 920 | I29: 920
A30: 4) выдача медицинского заключения: | B30: A23.30.059 | C30: Выдача медицинского заключения по результатам медицинского осмотра | D30: 187 | E30: 187 | F30: 187 | G30: 187 | H30: 187 | I30: 187 | J30: 187 | K30: 187 | L30: 187 | M30: 187 | N30: 187 | O30: 187 | P30: 187
A31: Итого: | D31: =SUM(D10:D30) -> 22703 | E31: =SUM(E10:E30) -> 21560 | F31: =SUM(F10:F30) -> 21560 | G31: =SUM(G10:G30) -> 21560 | H31: =SUM(H10:H30) -> 21560 | I31: =SUM(I10:I30) -> 21560 | J31: =SUM(J10:J30) -> 18318 | K31: =SUM(K10:K30) -> 18318 | ... P31: =SUM(P10:P30) -> 18046
A33: Примечание: при наличии медицинских показаний могут быть назначены дополнительные консультации специалистов, лабораторные и инструментальные исследования.

Sheet 7
A3: Расчет стоимости проведения медицинского освидетельствования согласно Приказу Минздрава России от 20.05.2022 N 342н "Об утверждении порядка прохождения обязательного психиатрического освидетельствования работниками, осуществляющими отдельные виды деятельности, его периодичности, а также видов деятельности, при осуществлении которых проводится психиатрическое освидетельствование"
A5: Перечень врачей-специалистов, лабораторных и функциональных исследований | B5: Код услуги | C5: Наименование услуги | D5: Стоимость услуги (руб.) | E5: Примечание
C6: согласно прейскуранту ГБУЗ ЧОБ
A7: психиатром | B7: B01.070.001.001 | C7: Психиатрическое освидетельствование | D7: 2023
A8: медицинским психологом | B8: B01.070.009 | C8: Прием (тестирование, консультация) медицинского психолога первичный | D8: 2178 | E8: при необходимости
A9: медицинским психологом | B9: B01.070.010 | C9: Прием (тестирование, консультация) медицинского психолога повторный | D9: 1497 | E9: при необходимости
A10: Выдача медицинского заключения по результатам медицинского осмотра | B10: A23.30.059 | C10: Выдача медицинского заключения по результатам медицинского осмотра | D10: 187
A11: ИТОГО | D11: =SUM(D7:D10) -> 5885
A13: Примечание:
A14: перечень медицинских услуг, стоимость медицинского осмотра определяется исходя из вида деятельности, в том числе деятельности, связанной с источниками повышенной опасности (с влиянием вредных веществ и неблагоприятных производственных факторов), а также работающими в условиях повышенной опасности
A15: лабораторные и функциональные исследования и осмотры врачей-специалистов действительны в течении 12 месяцев.

Sheet 8
A4: Расчет стоимости проведения обязательного медицинского освидетельствования водителей транспортных средств (кандидатов в водители транспортных средств) согласно Приказу Минздрава России от 24.11.2021 N 1092н "Об утверждении порядка проведения обязательного медицинского освидетельствования водителей транспортных средств (кандидатов в водители транспортных средств), порядка выдачи и формы медицинского заключения о наличии (об отсутствии) у водителей транспортных средств (кандидатов в водители транспортных средств) медицинских противопоказаний, медицинских показаний или медицинских ограничений к управлению транспортными средствами, а также о признании утратившими силу отдельных приказов Министерства здравоохранения РФ"
A7: Код услуги | B7: Наименование | C7: Стоимость (руб.) | D7: Примечание
A8: B04.047.002 | B8: Профилактический прием (осмотр, консультация) врача-терапевта | C8: 824
A9: B04.029.002 | B9: Профилактический прием (осмотр, консультация) врача-офтальмолога | C9: 519
A10: B04.035.002 | B10: Профилактический прием (осмотр, консультация) врача-психиатра | C10: 945
A11: B04.036.002 | B11: Профилактический прием (осмотр, консультация) врача психиатра-нарколога | C11: 920
A12: B04.023.002 | B12: Профилактический прием (осмотр, консультация) врача-невролога | C12: 426 | D12: обязателен при медицинском освидетельствовании водителей транспортных средств (кандидатов в водители транспортных средств) категории "C", "D", "CE", "DE", "Tm", "Tb" и подгатегорий "C1", "D1", "C1E", "D1E"
A13: B04.028.002 | B13: Профилактический прием (осмотр, консультация) врача-оториноларинголога | C13: 526 | D13: для водителей транспортных средств (кандидатов в водители транспортных средств) категории "C", "D", "CE", "DE", "Tm", "Tb" и подгатегорий "C1", "D1", "C1E", "D1E"
A14: A05.23.001 | B14: Электроэнцефалография | C14: 3438 | D14: для водителей транспортных средств (кандидатов в водители транспортных средств) категории "C", "D", "CE", "DE", "Tm", "Tb" и подгатегорий "C1", "D1", "C1E", "D1E"
A15: A11.28.014 | B15: Сбор мочи для лабораторного исследования | C15: 371 | D15: при необходимости (для проведения химико-токсикологического исследования)
A16: A09.28.055.001 | B16: Количественное определение одной группы психоактивных веществ, в том числе наркотических средств и психотропных веществ, их метаболитов в моче иммунохимическим методом | C16: 1951 | D16: при необходимости
A17: A11.12.013 | B17: Взятие крови из центральной вены | C17: 479 | D17: при необходимости (качественное и количественное определение карбогидратдефецитного трансферрина (СDT) в сыворотке крови)
A18: A09.05.305 | B18: Количественное определение карбогидрат-дефицитного трансферрина (CDT) в сыворотке крови методом жидкостной хроматографии | C18: 1690
A19: A23.30.059 | B19: Выдача медицинского заключения по результатам медицинского осмотра | C19: 187
A21: Примечание:
A22: определение наличия психоактивных веществ в моче, а также качественное и количественное определение карбогидрат-дефицитного трансферрина (СDT) в сыворотке крови проводится при выявлении врачом психиатром-наркологом симптомов и синдромов заболевания (состояния), являющегося медицинскими противопоказанием к управлению транспортными средствами.

Sheet 9
A3: Расчет стоимости проведения медицинского освидетельствования на наличие медицинских противопоказаний к владению оружием, согласно Приказу Министерства здравоохранения РФ от 26.11.2021 № 1104н "Об утверждении порядка проведения медицинского освидетельствования на наличие медицинских противопоказаний к владению оружием, в том числе внеочередного, и порядка оформления медицинских заключений по его результатам, форм медицинского заключения об отсутствии медицинских противопоказаний к владению оружием и медицинского заключения об отсутствии в организме наркотических средств, психотропных веществ и их метаболитов"
A5: Стоимость медицинского осмотра для оформления справки на владение оружием
A6: Код услуги | B6: Наименование | C6: Стоимость (руб.) | D6: Примечание
A7: B04.029.002 | B7: =VLOOKUP(A7,[2]Калькуляция_детальная!$B$10:$AU$1357,2,FALSE) -> Профилактический прием (осмотр, консультация) врача-офтальмолога | C7: =VLOOKUP(A7,[2]Калькуляция_детальная!$B$10:$AU$1357,45,FALSE) -> 519
A8: B01.070.001.001 | B8: =VLOOKUP(A8,[2]Калькуляция_детальная!$B$10:$AU$1357,2,FALSE) -> Психиатрическое освидетельствование | C8: =VLOOKUP(A8,[2]Калькуляция_детальная!$B$10:$AU$1357,45,FALSE) -> 2023
A9: B04.036.002 | B9: =VLOOKUP(A9,[2]Калькуляция_детальная!$B$10:$AU$1357,2,FALSE) -> Профилактический прием (осмотр, консультация) врача психиатра-нарколога | C9: =VLOOKUP(A9,[2]Калькуляция_детальная!$B$10:$AU$1357,45,FALSE) -> 920
A10: A11.28.014 | B10: =VLOOKUP(A10,[2]Калькуляция_детальная!$B$10:$AU$1357,2,FALSE) -> Сбор мочи для лабораторного исследования | C10: =VLOOKUP(A10,[2]Калькуляция_детальная!$B$10:$AU$1357,45,FALSE) -> 371 | D10: для проведения химико-токсикологического исследования
A11: A09.28.055.001 | B11: =VLOOKUP(A11,[2]Калькуляция_детальная!$B$10:$AU$1357,2,FALSE) -> Количественное определение одной группы психоактивных веществ, в том числе наркотических средств и психотропных веществ, их метаболитов в моче иммунохимическим методом | C11: =VLOOKUP(A11,[2]Калькуляция_детальная!$B$10:$AU$1357,45,FALSE) -> 1951
A12: A11.12.013 | B12: =VLOOKUP(A12,[2]Калькуляция_детальная!$B$10:$AU$1357,2,FALSE) -> Взятие крови из центральной вены | C12: =VLOOKUP(A12,[2]Калькуляция_детальная!$B$10:$AU$1357,45,FALSE) -> 479 | D12: при необходимости -качественное и количественное определение карбогидрат-дефицитного трансферрина (СDT) в сыворотке крови*
A13: A09.05.305 | B13: =VLOOKUP(A13,[2]Калькуляция_детальная!$B$10:$AU$1357,2,FALSE) -> Количественное определение карбогидрат-дефицитного трансферрина (CDT) в сыворотке крови методом жидкостной хроматографии | C13: =VLOOKUP(A13,[2]Калькуляция_детальная!$B$10:$AU$1357,45,FALSE) -> 1690
A14: A23.30.059 | B14: =VLOOKUP(A14,[2]Калькуляция_детальная!$B$10:$AU$1357,2,FALSE) -> Выдача медицинского заключения по результатам медицинского осмотра | C14: =VLOOKUP(A14,[2]Калькуляция_детальная!$B$10:$AU$1357,45,FALSE) -> 187
A15: B01.070.009 | B15: =VLOOKUP(A15,[2]Калькуляция_детальная!$B$10:$AU$1357,2,FALSE) -> Прием (тестирование, консультация) медицинского психолога первичный | C15: =VLOOKUP(A15,[2]Калькуляция_детальная!$B$10:$AU$1357,45,FALSE) -> 2178
A17: Примечание:
A18: медицинское заключение по результатам медицинского осмотра выдается только при наличии результатов химико-токсикологического исследования

Sheet 10
A3: Перечень и стоимость услуг по обследованию работников, подлежащих обязательным предварительным и периодическим медицинским осмотрам, согласно Приказу Министерства Здравоохранения РФ от 28.01.2021 № 29н "Об утверждении Порядка проведения обязательных предварительных и периодических медицинских осмотров работников, предусмотренных частью четвертой статьи 213 Трудового кодекса Российской Федерации, перечня медицинских противопоказаний к осуществлению работ с вредными и (или) опасными производственными факторами, а также работам, при выполнении которых проводятся обязательные предварительные и периодические медицинские осмотры"
A5: Код услуги | B5: Наименование | C5: Стоимость (руб.)
A6: A11.05.001 | B6: Взятие крови из пальца | C6: 314
A7: A09.05.003 | B7: Исследование уровня общего гемоглобина в крови | C7: 252
A8: A09.05.282 | B8: Определение среднего содержания и средней концентрации гемоглобина в эритроцитах | C8: 150
A9: A12.05.124 | B9: Определение цветового показателя | C9: 126
A10: A12.05.118 | B10: Исследование уровня эритроцитов в крови | C10: 566
A11: A12.05.120 | B11: Исследование уровня тромбоцитов в крови | C11: 1056
A12: A12.05.119 | B12: Исследование уровня лейкоцитов в крови | C12: 377
A13: A12.05.121 | B13: Дифференцированный подсчет лейкоцитов (лейкоцитарная формула) | C13: 882
A14: A12.05.001 | B14: Исследование скорости оседания эритроцитов | C14: 189
A15: A12.05.123 | B15: Исследование уровня ретикулоцитов в крови | C15: 1095
A16: A12.28.013 | B16: Определение удельного веса (относительной плотности) мочи | C16: 126
A17: A09.28.017 | B17: Определение концентрации водородных ионов (pH) мочи | C17: 126
... A93: A23.30.059 | B93: Выдача медицинского заключения по результатам медицинского осмотра | C93: 187
A94: Примечание:
A95: перечень медицинских услуг, стоимость медицинского осмотра и частота проведения медицинских осмотров определяется типами вредных и (или) опасных производственных факторов, воздействующих на работника, или видами выполняемых работ;

Sheet 11
A3: Расчет стоимости медицинского осмотра работников подразделений транспортной безопасности согласно Приказу Минздрава России от 29.01.2016 № 39н "Об утверждении порядка прохождения работниками подразделений транспортной безопасности ежегодного медицинского осмотра, предусмотренного статьей 12.3 Федерального закона от 9 февраля 2007 г. №16-ФЗ "О транспортной безопасности", включающего в себя химико-токсологические исследования наличия в организме человека наркотических средств, психотропных веществ и их метаболитов, и формы заключения, выдаваемого по его результатам
A5: Код услуги | B5: Наименование | C5: Цена услуги (руб.)
A6: B04.035.002 | B6: Профилактический прием (осмотр, консультация) врача-психиатра | C6: 945
A7: B04.036.002 | B7: Профилактический прием (осмотр, консультация) врача психиатра-нарколога | C7: 920
A8: A11.28.014 | B8: Сбор мочи для лабораторного исследования | C8: 371
A9: A09.28.055.001 | B9: Количественное определение одной группы психоактивных веществ, в том числе наркотических средств и психотропных веществ, их метаболитов в моче иммунохимическим методом | C9: 1951
A10: A23.30.059 | B10: Выдача медицинского заключения по результатам медицинского осмотра | C10: 187

Sheet 12
A3: Расчет стоимости медицинского осмотра работников ведомственной охраны согласно Приказу Министерства Здравоохранения России от 30.04.2019г. №266н "Об утверждении Порядка прохождения работниками ведомственной охраны ежегодного медицинского осмотра, предусмотренного ст.6 ФЗ от 14.04.1999г. №77-ФЗ "О ведомственной охране", включающая в себя химико-токсикологические исследования наличия в организме человека наркотических средств, психотропных веществ и их метаболитов, и формы заключения выдаваемого по его результатам
A5: Код услуги | B5: Наименование | C5: Цена услуги (руб.)
A6: B04.036.002 | B6: Профилактический прием (осмотр, консультация) врача психиатра-нарколога | C6: 920
A7: A11.28.014 | B7: Сбор мочи для лабораторного исследования | C7: 371
A8: A09.28.055.001 | B8: Количественное определение одной группы психоактивных веществ, в том числе наркотических средств и психотропных веществ, их метаболитов в моче иммунохимическим методом | C8: 1951
A9: A23.30.059 | B9: Выдача медицинского заключения по результатам медицинского осмотра | C9: 187
